BEGIN:VCALENDAR
VERSION:2.0
PRODID:-//eventon.com NONSGML v1.0//EN
CALSCALE:GREGORIAN
METHOD:PUBLISH
BEGIN:VEVENT
UID:69eb488222187
DTSTAMP:20260424T104002Z
DTSTART:20260803
DTEND:20260804
LOCATION:Saints en Puisaye
SUMMARY:Atelier exceptionnel : “10 jours avec Kâli”
DESCRIPTION:Atelier &#8211; 10 jours Les chamanes Anne-Marie Kouchner et Th
 omas Sambatr vous proposent un atelier puissant de transformation et de ren
 aissance sous l’égide de la déesse Kâli. Tarif : 1 200 € hors héber
 gement\nhttps://www.alohee.com/events/atelier-exceptionnel-10-jours-avec-ka
 li/
URL:https://www.alohee.com/events/atelier-exceptionnel-10-jours-avec-kali/
END:VEVENT
END:VCALENDAR